BEGIN:VCALENDAR
VERSION:2.0
PRODID:-//UNIFY
BEGIN:VTIMEZONE
TZID:America/New_York
X-LIC-LOCATION:America/New_York
BEGIN:DAYLIGHT
TZOFFSETFROM:-0500
TZOFFSETTO:-0400
TZNAME:EDT
DTSTART:19700308T020000
RRULE:FREQ=YEARLY;BYMONTH=3;BYDAY=2SU
END:DAYLIGHT
BEGIN:STANDARD
TZOFFSETFROM:-0400
TZOFFSETTO:-0500
TZNAME:EST
DTSTART:19701101T020000
RRULE:FREQ=YEARLY;BYMONTH=11;BYDAY=1SU
END:STANDARD
END:VTIMEZONE

BEGIN:VEVENT
UID:https://events.ucf.edu/event/4046978/walk-in-final-grades-submission-support/
DTSTAMP:20260506T100000
DTSTART:20260506T100000
DTEND:20260506T120000
LOCATION:Classroom Building I: Room 202 (Faculty Multimedia Center)

SUMMARY:Walk-In: Final Grades Submission Support
URL:https://events.ucf.edu/event/4046978/walk-in-final-grades-submission-support/
DESCRIPTION:Bring your device and your questions to a walk-in support opportunity to assist with submitting your final grades. Learn tips to message your students regarding final grades, use grading schemes to submit your final grades directly from Webcourses@UCF, and ensure that your students can see their scores accurately in their Grades view. There is no registration required, just walk in at any time. If you would prefer online assistance, that is available at any time through Webcourses@UCF Support: 407-823-0407\n\nThis workshop is limited to faculty only. 
END:VEVENT

END:VCALENDAR

