BEGIN:VCALENDAR
VERSION:2.0
PRODID:-//UNIFY
BEGIN:VTIMEZONE
TZID:America/New_York
X-LIC-LOCATION:America/New_York
BEGIN:DAYLIGHT
TZOFFSETFROM:-0500
TZOFFSETTO:-0400
TZNAME:EDT
DTSTART:19700308T020000
RRULE:FREQ=YEARLY;BYMONTH=3;BYDAY=2SU
END:DAYLIGHT
BEGIN:STANDARD
TZOFFSETFROM:-0400
TZOFFSETTO:-0500
TZNAME:EST
DTSTART:19701101T020000
RRULE:FREQ=YEARLY;BYMONTH=11;BYDAY=1SU
END:STANDARD
END:VTIMEZONE

BEGIN:VEVENT
UID:https://events.ucf.edu/event/4052864/knight-at-the-library-ucf-library-tour/
DTSTAMP:20260218T140000
DTSTART:20260218T140000
DTEND:20260218T153000
LOCATION:Transfer Center: Trevor Colbourn Hall, 215

SUMMARY:Knight at the Library - UCF Library Tour
URL:https://events.ucf.edu/event/4052864/knight-at-the-library-ucf-library-tour/
DESCRIPTION:Join a guided tour of the UCF Library to discover everything it has to offer to support you throughout your time at UCF. You'll explore each floor, check out different study spaces, and learn how to access research tools, technology, and helpful student services that can make your classes easier and more successful.\n\nWe'll meet at the UCF Transfer Center and walk over to the library together, a great chance to connect with other students while getting familiar with one of the most important spots on campus!\nRegistration Link: https://go.ucf.edu/4jTY21G
END:VEVENT

END:VCALENDAR

