BEGIN:VCALENDAR
VERSION:2.0
PRODID:-//UNIFY
BEGIN:VTIMEZONE
TZID:America/New_York
X-LIC-LOCATION:America/New_York
BEGIN:DAYLIGHT
TZOFFSETFROM:-0500
TZOFFSETTO:-0400
TZNAME:EDT
DTSTART:19700308T020000
RRULE:FREQ=YEARLY;BYMONTH=3;BYDAY=2SU
END:DAYLIGHT
BEGIN:STANDARD
TZOFFSETFROM:-0400
TZOFFSETTO:-0500
TZNAME:EST
DTSTART:19701101T020000
RRULE:FREQ=YEARLY;BYMONTH=11;BYDAY=1SU
END:STANDARD
END:VTIMEZONE

BEGIN:VEVENT
UID:https://events.ucf.edu/event/4106152/ucf-transfer-application/
DTSTAMP:20260506T140000
DTSTART:20260506T140000
DTEND:20260506T153000
LOCATION:Virtual
SUMMARY:UCF Transfer Application
URL:https://events.ucf.edu/event/4106152/ucf-transfer-application/
DESCRIPTION:Ready to apply to UCF? Need assistance with completing the UCF application?\n\nJoin us for the virtual UCF Application Workshop!\n\nRemember, the deadlines to apply are:\n\nSummer: March 1 \n\nFall: June 1 \n\nSpring: Nov. 1 \n\nVirtual Location URL: https://ucf.zoom.us/meeting/register/mSD7R-KzQxKNpxBtE6bX0g\nRegistration Link: https://ucf.zoom.us/meeting/register/mSD7R-KzQxKNpxBtE6bX0g
END:VEVENT

END:VCALENDAR

