BEGIN:VCALENDAR
VERSION:2.0
PRODID:-//UNIFY
BEGIN:VTIMEZONE
TZID:America/New_York
X-LIC-LOCATION:America/New_York
BEGIN:DAYLIGHT
TZOFFSETFROM:-0500
TZOFFSETTO:-0400
TZNAME:EDT
DTSTART:19700308T020000
RRULE:FREQ=YEARLY;BYMONTH=3;BYDAY=2SU
END:DAYLIGHT
BEGIN:STANDARD
TZOFFSETFROM:-0400
TZOFFSETTO:-0500
TZNAME:EST
DTSTART:19701101T020000
RRULE:FREQ=YEARLY;BYMONTH=11;BYDAY=1SU
END:STANDARD
END:VTIMEZONE

BEGIN:VEVENT
UID:https://events.ucf.edu/event/4110445/ieee-technology-futures-cybersecurity/
DTSTAMP:20260425T173000
DTSTART:20260425T173000
DTEND:20260425T200000
LOCATION:Virtual and HEC 101: 101

SUMMARY:IEEE Technology Futures: Cybersecurity
URL:https://events.ucf.edu/event/4110445/ieee-technology-futures-cybersecurity/
DESCRIPTION:The IEEE Region 3 Young Professionals (YP) and Computer Society Tech Futures 2026 Series is a coordinated, region-wide initiative designed to engage students, young professionals and IEEE members in exploring the most impactful emerging technologies identified in the Computer Society Technology Predictions 2026 report. This collaborative series will start with a flagship virtual kickoff session, followed by locally hosted hybrid events organized by Section YP Affinity Groups and Computer Society Chapters across Region 3, to reach a broad regional audience and engage deeply at the local level.\n\nVirtual Location URL: WebEx - Please Register\nRegistration Link: https://events.vtools.ieee.org/m/552721\nRegistration Info: Registration via IEEE vTools Events
END:VEVENT

END:VCALENDAR

