BEGIN:VCALENDAR
VERSION:2.0
PRODID:-//UNIFY
BEGIN:VTIMEZONE
TZID:America/New_York
X-LIC-LOCATION:America/New_York
BEGIN:DAYLIGHT
TZOFFSETFROM:-0500
TZOFFSETTO:-0400
TZNAME:EDT
DTSTART:19700308T020000
RRULE:FREQ=YEARLY;BYMONTH=3;BYDAY=2SU
END:DAYLIGHT
BEGIN:STANDARD
TZOFFSETFROM:-0400
TZOFFSETTO:-0500
TZNAME:EST
DTSTART:19701101T020000
RRULE:FREQ=YEARLY;BYMONTH=11;BYDAY=1SU
END:STANDARD
END:VTIMEZONE

BEGIN:VEVENT
UID:https://events.ucf.edu/event/4113349/art-exhibit-me-from-ur-pov/
DTSTAMP:20260304T100000
DTSTART:20260304T100000
DTEND:20260430T170000
LOCATION:Downtown Campus, UnionWest: 5th Floor Lobby

SUMMARY:Art Exhibit - Me From Ur POV
URL:https://events.ucf.edu/event/4113349/art-exhibit-me-from-ur-pov/
DESCRIPTION:Organized by student curators, Aaron Rey (Lead Curator & Concept Originator), Andres Bermudez (Curatorial Collaborator), and Fletcher Roedema (Curatorial Collaborator), this exhibition explores perception and identity, revealing how we see and interpret one another through shifting perspectives and inner narratives.\n\nWe invite you to come enjoy the exhibition on display and take the opportunity to explore the artworks created by the artists! \n\nOpening: Thursday, February 26th, from 6PM to 8PM  \nOpen to the public: February 26th - April 24th, from 10am to 4pm
END:VEVENT

END:VCALENDAR

