BEGIN:VCALENDAR
VERSION:2.0
PRODID:-//UNIFY
BEGIN:VTIMEZONE
TZID:America/New_York
X-LIC-LOCATION:America/New_York
BEGIN:DAYLIGHT
TZOFFSETFROM:-0500
TZOFFSETTO:-0400
TZNAME:EDT
DTSTART:19700308T020000
RRULE:FREQ=YEARLY;BYMONTH=3;BYDAY=2SU
END:DAYLIGHT
BEGIN:STANDARD
TZOFFSETFROM:-0400
TZOFFSETTO:-0500
TZNAME:EST
DTSTART:19701101T020000
RRULE:FREQ=YEARLY;BYMONTH=11;BYDAY=1SU
END:STANDARD
END:VTIMEZONE

BEGIN:VEVENT
UID:https://events.ucf.edu/event/4117069/computer-architecture-series-rohan-mahapatra/
DTSTAMP:20260422T180000
DTSTART:20260422T180000
DTEND:20260422T190000
LOCATION:Virtual
SUMMARY:Computer Architecture Series: Rohan Mahapatra
URL:https://events.ucf.edu/event/4117069/computer-architecture-series-rohan-mahapatra/
DESCRIPTION:Join us as we welcome the last speaker of the semester! Our guest will be Rohan Mahapatra, a senior researcher at Microsoft Azure Research - Systems. He will present "Data-Centric Acceleration for AI Serving."\n\nVirtual Location URL: https://ucf.zoom.us/j/5690634523
END:VEVENT

END:VCALENDAR

