BEGIN:VCALENDAR
VERSION:2.0
PRODID:-//UNIFY
BEGIN:VTIMEZONE
TZID:America/New_York
X-LIC-LOCATION:America/New_York
BEGIN:DAYLIGHT
TZOFFSETFROM:-0500
TZOFFSETTO:-0400
TZNAME:EDT
DTSTART:19700308T020000
RRULE:FREQ=YEARLY;BYMONTH=3;BYDAY=2SU
END:DAYLIGHT
BEGIN:STANDARD
TZOFFSETFROM:-0400
TZOFFSETTO:-0500
TZNAME:EST
DTSTART:19701101T020000
RRULE:FREQ=YEARLY;BYMONTH=11;BYDAY=1SU
END:STANDARD
END:VTIMEZONE

BEGIN:VEVENT
UID:https://events.ucf.edu/event/4117229/introduction-to-coaching-part-2/
DTSTAMP:20260513T140000
DTSTART:20260513T140000
DTEND:20260513T153000
LOCATION:Virtual
SUMMARY:Introduction to Coaching - Part 2
URL:https://events.ucf.edu/event/4117229/introduction-to-coaching-part-2/
DESCRIPTION:Introduction to Coaching Part 2 will explore relationship alliance, which emphasizes trust, collaboration, and mutual accountability between coach and coachee; and hope theory, which focuses on goal-directed thinking and the pathways to achieving meaningful outcomes. \n\nThis session is ideal for supervisors, managers, mentors, and aspiring coaches who have completed an introductory coaching course or have foundational coaching experience. It's especially valuable for those looking to enhance their interpersonal effectiveness and support others in achieving personal and professional growth.\n\nNOTE: While not a prerequisite we strongly recommend attending Introduction to Coaching Part 1 because it provides a coaching foundation.\n\nVirtual Location URL: Zoom link will be sent to those who register.\nRegistration Link: https://www.myworkday.com/ucf/email-universal/inst/15972$3233/rel-task/2998$26720.htmld\nRegistration Info: Register in Workday. Zoom link will be sent to those who register.
END:VEVENT

END:VCALENDAR

