BEGIN:VCALENDAR
VERSION:2.0
PRODID:-//UNIFY
BEGIN:VTIMEZONE
TZID:America/New_York
X-LIC-LOCATION:America/New_York
BEGIN:DAYLIGHT
TZOFFSETFROM:-0500
TZOFFSETTO:-0400
TZNAME:EDT
DTSTART:19700308T020000
RRULE:FREQ=YEARLY;BYMONTH=3;BYDAY=2SU
END:DAYLIGHT
BEGIN:STANDARD
TZOFFSETFROM:-0400
TZOFFSETTO:-0500
TZNAME:EST
DTSTART:19701101T020000
RRULE:FREQ=YEARLY;BYMONTH=11;BYDAY=1SU
END:STANDARD
END:VTIMEZONE

BEGIN:VEVENT
UID:https://events.ucf.edu/event/4117331/coaching-with-the-grow-model/
DTSTAMP:20260519T100000
DTSTART:20260519T100000
DTEND:20260519T113000
LOCATION:Virtual
SUMMARY:Coaching with the GROW Model
URL:https://events.ucf.edu/event/4117331/coaching-with-the-grow-model/
DESCRIPTION:This course guides participants through the GROW Model, a structured yet flexible approach to coaching that facilitates personal and professional development. Participants will learn to effectively set goals, assess current realities, explore potential strategies, and plan actionable steps toward achieving their objectives.\n\nBy the end of this course, participants will be able to:\n\n•Define and apply the GROW Model.\n\n•Set SMART goals.\n\n•Analyze current realities.\n\n•Explore and evaluate options.\n\n•Develop actionable plans.\n\n•Enhance coaching skills.\n\n•Foster accountability and motivation.\n\n•Utilize coaching tools effectively.\n\nVirtual Location URL: Zoom link will be sent to those who register.\nRegistration Link: https://www.myworkday.com/ucf/email-universal/inst/15972$3247/rel-task/2998$26720.htmld\nRegistration Info: Register in Workday. Zoom link will be sent to those who register.
END:VEVENT

END:VCALENDAR

