BEGIN:VCALENDAR
VERSION:2.0
PRODID:-//UNIFY
BEGIN:VTIMEZONE
TZID:America/New_York
X-LIC-LOCATION:America/New_York
BEGIN:DAYLIGHT
TZOFFSETFROM:-0500
TZOFFSETTO:-0400
TZNAME:EDT
DTSTART:19700308T020000
RRULE:FREQ=YEARLY;BYMONTH=3;BYDAY=2SU
END:DAYLIGHT
BEGIN:STANDARD
TZOFFSETFROM:-0400
TZOFFSETTO:-0500
TZNAME:EST
DTSTART:19701101T020000
RRULE:FREQ=YEARLY;BYMONTH=11;BYDAY=1SU
END:STANDARD
END:VTIMEZONE

BEGIN:VEVENT
UID:https://events.ucf.edu/event/4117367/5-steps-to-increasing-your-ai-exposure/
DTSTAMP:20260521T100000
DTSTART:20260521T100000
DTEND:20260521T113000
LOCATION:Virtual
SUMMARY:5 Steps to Increasing Your AI Exposure
URL:https://events.ucf.edu/event/4117367/5-steps-to-increasing-your-ai-exposure/
DESCRIPTION:This webinar is sponsored by Orange County Government.\n\nThe landscape of online discovery is rapidly evolving, with consumers increasingly turning to AI engines like ChatGPT, Perplexity, and Gemini to find the services they need. Is your small business prepared to be recognized and recommended by these powerful platforms? This session is designed specifically for small business owners/operators who want to stay ahead of the curve.\n\nYou'll walk away with easy, actionable steps you can implement immediately to significantly increase your business's online exposure in this new, AI-driven world. Learn exactly what it takes to position your small business so that these AI tools can find, understand, and connect you to potential customers. Stop waiting for customers to stumble upon your website and start taking the new steps necessary to be seen, be recognized, and be chosen by AI-powered search.\n\nSecure your spot today!\n\nPresented by Google Partner and National Trainer Matt Weber, President, ROAR! Internet Marketing\n\nVirtual Location URL: https://events.blackthorn.io/en/6g3Q8Wa7/5-steps-to-increasing-your-ai-exposure-5a1eVODrbAC\nRegistration Link: https://events.blackthorn.io/en/6g3Q8Wa7/5-steps-to-increasing-your-ai-exposure-5a1eVODrbAC
END:VEVENT

END:VCALENDAR

