BEGIN:VCALENDAR
VERSION:2.0
PRODID:-//UNIFY
BEGIN:VTIMEZONE
TZID:America/New_York
X-LIC-LOCATION:America/New_York
BEGIN:DAYLIGHT
TZOFFSETFROM:-0500
TZOFFSETTO:-0400
TZNAME:EDT
DTSTART:19700308T020000
RRULE:FREQ=YEARLY;BYMONTH=3;BYDAY=2SU
END:DAYLIGHT
BEGIN:STANDARD
TZOFFSETFROM:-0400
TZOFFSETTO:-0500
TZNAME:EST
DTSTART:19701101T020000
RRULE:FREQ=YEARLY;BYMONTH=11;BYDAY=1SU
END:STANDARD
END:VTIMEZONE

BEGIN:VEVENT
UID:https://events.ucf.edu/event/4117455/secondary-education-med-science-education-information-session/
DTSTAMP:20260522T123000
DTSTART:20260522T123000
DTEND:20260522T133000
LOCATION:Virtual
SUMMARY:Secondary Education MEd - Science Education Information Session
URL:https://events.ucf.edu/event/4117455/secondary-education-med-science-education-information-session/
DESCRIPTION:The Science Education track in the Secondary Education MEd program is designed to meet the advanced knowledge and skill needs of certified secondary science teachers, enabling them to expand their subject matter knowledge and professional teaching skills.\n\nVirtual Location URL: https://applynow.graduate.ucf.edu/register/?id=bdbbc47f-d7e2-40a2-a717-dddad3bf0917\nRegistration Link: https://applynow.graduate.ucf.edu/register/?id=bdbbc47f-d7e2-40a2-a717-dddad3bf0917
END:VEVENT

END:VCALENDAR

