BEGIN:VCALENDAR
VERSION:2.0
PRODID:-//UNIFY
BEGIN:VTIMEZONE
TZID:America/New_York
X-LIC-LOCATION:America/New_York
BEGIN:DAYLIGHT
TZOFFSETFROM:-0500
TZOFFSETTO:-0400
TZNAME:EDT
DTSTART:19700308T020000
RRULE:FREQ=YEARLY;BYMONTH=3;BYDAY=2SU
END:DAYLIGHT
BEGIN:STANDARD
TZOFFSETFROM:-0400
TZOFFSETTO:-0500
TZNAME:EST
DTSTART:19701101T020000
RRULE:FREQ=YEARLY;BYMONTH=11;BYDAY=1SU
END:STANDARD
END:VTIMEZONE

BEGIN:VEVENT
UID:https://events.ucf.edu/event/4117488/svad-character-animation-premieres/
DTSTAMP:20260501T183000
DTSTART:20260501T183000
DTEND:20260501T193000
LOCATION:VAB: 132

SUMMARY:SVAD Character Animation Premieres
URL:https://events.ucf.edu/event/4117488/svad-character-animation-premieres/
DESCRIPTION:Join SVAD on Friday, May 1 for the Character Animation Premieres--an evening showcasing brand-new 2D and 3D animated films by Character Animation BFA and Animation/VFX MFA students.\n\nPublic screenings begin at 6:30 PM in Room 132 of the Visual Arts Building. Admission is free and open to the public!
END:VEVENT

END:VCALENDAR

