BEGIN:VCALENDAR
VERSION:2.0
PRODID:-//UNIFY
BEGIN:VTIMEZONE
TZID:America/New_York
X-LIC-LOCATION:America/New_York
BEGIN:DAYLIGHT
TZOFFSETFROM:-0500
TZOFFSETTO:-0400
TZNAME:EDT
DTSTART:19700308T020000
RRULE:FREQ=YEARLY;BYMONTH=3;BYDAY=2SU
END:DAYLIGHT
BEGIN:STANDARD
TZOFFSETFROM:-0400
TZOFFSETTO:-0500
TZNAME:EST
DTSTART:19701101T020000
RRULE:FREQ=YEARLY;BYMONTH=11;BYDAY=1SU
END:STANDARD
END:VTIMEZONE

BEGIN:VEVENT
UID:https://events.ucf.edu/event/4118229/2026-30-under-30-awards-reception/
DTSTAMP:20260516T173000
DTSTART:20260516T173000
DTEND:20260516T200000
LOCATION:Addition Financial Arena

SUMMARY:2026 30 Under 30 Awards Reception
URL:https://events.ucf.edu/event/4118229/2026-30-under-30-awards-reception/
DESCRIPTION:The 30 Under 30 awards program recognizes outstanding young alumni who continue to "Reach for the Stars" in their professional and personal lives since graduating from the University of Central Florida. Join us in celebrating their achievements and the impact they have made in their profession, community, and the university post commencement.\nRegistration Link: https://foundation.ucf.edu/30Under30Gen\nRegistration Info: Pricing: Individual: $50 Young Alumni*: $40 *This discounted rate is intended for attendees age 32 and under. Please select the option that best reflects your situation so we can keep events accessible
END:VEVENT

END:VCALENDAR

