BEGIN:VCALENDAR
VERSION:2.0
PRODID:-//UNIFY
BEGIN:VTIMEZONE
TZID:America/New_York
X-LIC-LOCATION:America/New_York
BEGIN:DAYLIGHT
TZOFFSETFROM:-0500
TZOFFSETTO:-0400
TZNAME:EDT
DTSTART:19700308T020000
RRULE:FREQ=YEARLY;BYMONTH=3;BYDAY=2SU
END:DAYLIGHT
BEGIN:STANDARD
TZOFFSETFROM:-0400
TZOFFSETTO:-0500
TZNAME:EST
DTSTART:19701101T020000
RRULE:FREQ=YEARLY;BYMONTH=11;BYDAY=1SU
END:STANDARD
END:VTIMEZONE

BEGIN:VEVENT
UID:https://events.ucf.edu/event/4118269/between-shadows-and-lightness-pegasus-playlab-2026/
DTSTAMP:20260613T190000
DTSTART:20260613T190000
DTEND:20260613T210000
LOCATION:PAC - Theatre: Studio I, room T107

SUMMARY:Between Shadows and Lightness | Pegasus PlayLab 2026
URL:https://events.ucf.edu/event/4118269/between-shadows-and-lightness-pegasus-playlab-2026/
DESCRIPTION:Presented as part of Pegasus PlayLab 2026, this devised theatre project brings together artists with and without disabilities to create a theatrical piece about mental health, inspired by participants' personal stories as well as collages and sculptures created by visual artists with and without disabilities.\n\nDirectors: Ralph Krumins and Sage Tokach \n\nEach performance will be followed by a talkback with the audience.\nRegistration Link: https://www.purplepass.com/events/373503-workshop-between-shadows-and-lightness-jun-12th-2026\nRegistration Info: Standard: $15
Student/Faculty/Staff: $10
END:VEVENT

END:VCALENDAR

