BEGIN:VCALENDAR
VERSION:2.0
PRODID:-//UNIFY
BEGIN:VTIMEZONE
TZID:America/New_York
X-LIC-LOCATION:America/New_York
BEGIN:DAYLIGHT
TZOFFSETFROM:-0500
TZOFFSETTO:-0400
TZNAME:EDT
DTSTART:19700308T020000
RRULE:FREQ=YEARLY;BYMONTH=3;BYDAY=2SU
END:DAYLIGHT
BEGIN:STANDARD
TZOFFSETFROM:-0400
TZOFFSETTO:-0500
TZNAME:EST
DTSTART:19701101T020000
RRULE:FREQ=YEARLY;BYMONTH=11;BYDAY=1SU
END:STANDARD
END:VTIMEZONE

BEGIN:VEVENT
UID:https://events.ucf.edu/event/4118691/graduate-counseling-program-information-session-ma-eds-phd/
DTSTAMP:20260603T160000
DTSTART:20260603T160000
DTEND:20260603T180000
LOCATION:Virtual
SUMMARY:Graduate Counseling Program Information Session: MA, EdS & PhD
URL:https://events.ucf.edu/event/4118691/graduate-counseling-program-information-session-ma-eds-phd/
DESCRIPTION:Ready to make a meaningful impact on the lives of others? Our nationally ranked and accredited [Counselor Education](https://ccie.ucf.edu/cesp/counselored/) master's and doctoral programs prepare the next generation of professional counselors and counselor educators to make significant impacts on the lives of their clients, students and communities. Ranking among the top 15 counselor education graduate programs in the nation since 2009, our program offers a proven history of success to help you make a substantial difference. Join us for a virtual information session to learn more about our program offerings and how you can get involved.\n\nDuring this two-hour interactive Zoom meeting, you will:\n\n  * Get an extensive overview of our program options, including our master's in clinical mental health counseling, school counseling, and marriage, couples, and family therapy, as well as our doctoral degree in counselor education.\n  * Learn about application requirements and deadlines.\n  * Meet with, and hear from, the Program Director, [Dr. Bryce Hagedorn](https://ccie.ucf.edu/person/bryce-hagedorn/).\n  * Ask questions during a Q&A session and benefit from other people's questions.\n\n\n\nVirtual Location URL: Zoom\nRegistration Link: https://applynow.graduate.ucf.edu/register/?id=db40202f-c5fd-485b-bb0b-1878a42de798
END:VEVENT

END:VCALENDAR

